BEGIN:VCALENDAR
VERSION:2.0
PRODID:-//Library Market//iCal Export//EN
BEGIN:VEVENT
SUMMARY:Spice Club
UID:46867
DTSTAMP:20260424T054100Z
DTSTART:20260601T210000Z
DTEND:20260605T210000Z
LOCATION:New Lenox Public Library, 120 Veterans Parkway, New Lenox, IL 604
 51, United States
ROOM: Adult &amp; Teen Services Desk
DESCRIPTION:Variety is the spice of life, so let’s try out a variety of 
 spices! Every other month we will feature a different spice. Kits each inc
 lude a sample of that month’s spice and a packet full of recipes, cookbo
 ok recommendations, as well as some history and cultural context. Take &am
 p; Makes will be available starting at 4:00 PM on Monday while supplies la
 st. Check out all recipes and past information packets here:2026June - Cu
 min Seed (Coming soon...)April - Dried BasilFebruary - Aleppo Pepper2025De
 cember - Star AniseOctober - MarjoramAugust - White PepperJune - HibiscusA
 pril - TurmericFebruary - Bay Leaf 2024December - JuniperOctober - Cardam
 omAugust - Black Cumin Seeds/NigellaJune - CarawayApril - TarragonFebruary
  - Ground Ginger2023December - AniseedOctober- AllspiceAugust- Dried DillJ
 une- SumacApril- Culinary LavenderFebruary- Ancho Chile Powder
URL:https://www.newlenoxlibrary.org/event/spice-club-46867
END:VEVENT
END:VCALENDAR
