BEGIN:VCALENDAR
VERSION:2.0
PRODID:-//Library Market//iCal Export//EN
BEGIN:VEVENT
SUMMARY:BYOB Club: Bring Your Own Book Club at 3 Corners Grill &amp; Tap
UID:50293
DTSTAMP:20260424T054100Z
DTSTART:20260617T233000Z
DTEND:20260618T003000Z
LOCATION:3 Corners Grill &amp; Tap, 901 E Lincoln Hwy, New Lenox, IL 60451
 , United States
ROOM: BYOB Club: Bring Your Own Book Club at 3 Corners Grill &amp; Tap
DESCRIPTION:Join us every other month for the BYOB (Bring Your Own Book) B
 ook Club for adults: a stress-free book discussion with no required readin
 g! We will talk about books we&#039;ve recently read or listened to, share
  ideas for new reads, and enjoy great food and drinks at 3 Corners Grill &
 amp; Tap*.Registration Required.Registration closes the Monday before the 
 program.*Food and drinks are available for purchase from the restaurant du
 ring the program; the Library does not provide refreshments.
URL:https://www.newlenoxlibrary.org/event/byob-club-bring-your-own-book-cl
 ub-3-corners-grill-tap-50293
END:VEVENT
END:VCALENDAR
