BEGIN:VCALENDAR
VERSION:2.0
PRODID:-//Library Market//iCal Export//EN
BEGIN:VEVENT
SUMMARY:Family Storytime
UID:52911
DTSTAMP:20260424T003900Z
DTSTART:20260713T150000Z
DTEND:20260713T153000Z
LOCATION:New Lenox Public Library, 120 Veterans Parkway, New Lenox, IL 604
 51, United States
ROOM: Meeting Room AB
DESCRIPTION:All Ages. Â Stories, songs, and rhymes for the whole family. Â
  All participants must be accompanied by a parent or caregiver. Registrati
 on is not required, but priority will be given to those on the registratio
 n list. Â Space is limited.
URL:https://www.newlenoxlibrary.org/event/family-storytime-52911
END:VEVENT
END:VCALENDAR
