BEGIN:VCALENDAR
VERSION:2.0
PRODID:-//Library Market//iCal Export//EN
BEGIN:VEVENT
SUMMARY:Growing Readers
UID:52914
DTSTAMP:20260423T224800Z
DTSTART:20260608T180000Z
DTEND:20260608T183000Z
LOCATION:New Lenox Public Library, 120 Veterans Parkway, New Lenox, IL 604
 51, United States
ROOM: Storytime Room
DESCRIPTION:Ages 4-6. Grow and learn at this storytime specifically for pr
 eschoolers!  Sing along with songs, listen to fun stories, and then wrap 
 it all up with a fun craft! Participants are encouraged to attend without
  caregivers, but caregivers must remain within the Youth Services departme
 nt for the duration of the program.
URL:https://www.newlenoxlibrary.org/event/growing-readers-52914
END:VEVENT
END:VCALENDAR
