BEGIN:VCALENDAR
VERSION:2.0
PRODID:-//Library Market//iCal Export//EN
BEGIN:VEVENT
SUMMARY:D&amp;D Kids Club
UID:52926
DTSTAMP:20260424T035000Z
DTSTART:20260713T223000Z
DTEND:20260713T233000Z
LOCATION:New Lenox Public Library, 120 Veterans Parkway, New Lenox, IL 604
 51, United States
ROOM: Storytime Room
DESCRIPTION:3rd-7th grade. Make friends and get creative at this three wee
 k Dungeons and Dragons campaign perfect for beginner and experienced playe
 rs alike.Registration is for a 3-week session and attendance is required f
 or all 3 weeks.
URL:https://www.newlenoxlibrary.org/event/dd-kids-club-52926
END:VEVENT
END:VCALENDAR
