BEGIN:VCALENDAR
VERSION:2.0
PRODID:-//Library Market//iCal Export//EN
BEGIN:VEVENT
SUMMARY:Art Club: Clay Mosaic Snail
UID:52929
DTSTAMP:20260424T032900Z
DTSTART:20260720T213000Z
DTEND:20260720T214500Z
LOCATION:
DESCRIPTION:1st-6th grade. Create some awesome art with a step-by-step vid
 eo to help you create a masterpiece. THEME: Clay Mosaic SnailOnce you have
  registered, you will receive an email with instructions for picking up yo
 ur supplies at the Library.
URL:https://www.newlenoxlibrary.org/event/art-club-clay-mosaic-snail-52929
END:VEVENT
END:VCALENDAR
