BEGIN:VCALENDAR
VERSION:2.0
PRODID:-//Library Market//iCal Export//EN
BEGIN:VEVENT
SUMMARY:Pokémon Club
UID:52931
DTSTAMP:20260424T040100Z
DTSTART:20260727T210000Z
DTEND:20260727T223000Z
LOCATION:New Lenox Public Library, 120 Veterans Parkway, New Lenox, IL 604
 51, United States
ROOM: Meeting Room AB
DESCRIPTION:2nd-6th Grade. Calling all Pokémon trainers new and experienc
 ed! Do you want to be the very best? Join us to meet fellow trainers, play
 , trade, and learn the Pokémon Trading Card Game!Participants are encoura
 ged to bring their own cards, but trading will only be allowed with parent
 /caregiver supervision.  Detailed rules will be sent out to registrants p
 rior to the program.
URL:https://www.newlenoxlibrary.org/event/pokemon-club-52931
END:VEVENT
END:VCALENDAR
