BEGIN:VCALENDAR
VERSION:2.0
PRODID:-//Library Market//iCal Export//EN
BEGIN:VEVENT
SUMMARY:Naturally Crafty: Dried Flower Resin Keychains
UID:52940
DTSTAMP:20260423T225900Z
DTSTART:20260609T213000Z
DTEND:20260609T223000Z
LOCATION:New Lenox Public Library, 120 Veterans Parkway, New Lenox, IL 604
 51, United States
ROOM: Outdoor Naturescape
DESCRIPTION:Ages 8-12. Join us in the Outdoor Naturescape to create nature
 -inspired crafts featuring natural and repurposed materials! In the even o
 f inclement weather, program will be relocated to the Storytime Room.Theme
 : Dried Flower Resin Keychains
URL:https://www.newlenoxlibrary.org/event/naturally-crafty-dried-flower-re
 sin-keychains-52940
END:VEVENT
END:VCALENDAR
