BEGIN:VCALENDAR
VERSION:2.0
PRODID:-//Library Market//iCal Export//EN
BEGIN:VEVENT
SUMMARY:Naturally Crafty: Natural Tie-Dye Pillowcases
UID:52943
DTSTAMP:20260424T032900Z
DTSTART:20260721T213000Z
DTEND:20260721T223000Z
LOCATION:New Lenox Public Library, 120 Veterans Parkway, New Lenox, IL 604
 51, United States
ROOM: Outdoor Naturescape
DESCRIPTION:Ages 8-12. Join us in the Outdoor Naturescape to create nature
 -inspired crafts featuring natural and repurposed materials! In the even o
 f inclement weather, program will be relocated to the Storytime Room.Theme
 : Natural Tie-Dye Pillowcases
URL:https://www.newlenoxlibrary.org/event/naturally-crafty-natural-tie-dye
 -pillowcases-52943
END:VEVENT
END:VCALENDAR
