BEGIN:VCALENDAR
VERSION:2.0
PRODID:-//Library Market//iCal Export//EN
BEGIN:VEVENT
SUMMARY:Books &amp; Blossoms Storytime
UID:52947
DTSTAMP:20260424T032900Z
DTSTART:20260728T223000Z
DTEND:20260728T230000Z
LOCATION:New Lenox Public Library, 120 Veterans Parkway, New Lenox, IL 604
 51, United States
ROOM: Storytime Room
DESCRIPTION:Ages 3-5 with caregiver. Little ones will dig into stories and
  creativity in this nature-themed program! Each session features a delight
 ful story followed by a simple, hands-on activity inspired by gardening, g
 rowing, and the world around us.
URL:https://www.newlenoxlibrary.org/event/garden-buddies-52947
END:VEVENT
END:VCALENDAR
