BEGIN:VCALENDAR
VERSION:2.0
PRODID:-//Library Market//iCal Export//EN
BEGIN:VEVENT
SUMMARY:Family BINGO Night
UID:52950
DTSTAMP:20260424T032900Z
DTSTART:20260728T233000Z
DTEND:20260729T003000Z
LOCATION:New Lenox Public Library, 120 Veterans Parkway, New Lenox, IL 604
 51, United States
ROOM: Meeting Room AB
DESCRIPTION:Ages 4 &amp; up with caregiver. Join us for a fun-filled Famil
 y BINGO Night at the library! Gather your loved ones for an evening of exc
 itement and friendly competition.  Prizes will be awarded to winners of e
 ach round!Children must be accompanied by an adult at all times.
URL:https://www.newlenoxlibrary.org/event/family-bingo-night-52950
END:VEVENT
END:VCALENDAR
