BEGIN:VCALENDAR
VERSION:2.0
PRODID:-//Library Market//iCal Export//EN
BEGIN:VEVENT
SUMMARY:Little Explorers Storytime
UID:52951
DTSTAMP:20260423T224800Z
DTSTART:20260610T150000Z
DTEND:20260610T154500Z
LOCATION:New Lenox Public Library, 120 Veterans Parkway, New Lenox, IL 604
 51, United States
ROOM: Outdoor Naturescape
DESCRIPTION:Ages 3-6 with caregiver. Enjoy storytime in the library’s Ou
 tdoor Naturescape followed by a nature walk! Bring strollers, water bottle
  &amp; sunscreen to beat the heat!  All participants must be accompanied 
 by an adult.  Weather permitting.
URL:https://www.newlenoxlibrary.org/event/little-explorers-storytime-52951
END:VEVENT
END:VCALENDAR
