BEGIN:VCALENDAR
VERSION:2.0
PRODID:-//Library Market//iCal Export//EN
BEGIN:VEVENT
SUMMARY:Chess Club for Kids
UID:52961
DTSTAMP:20260424T003900Z
DTSTART:20260624T233000Z
DTEND:20260625T001500Z
LOCATION:New Lenox Public Library, 120 Veterans Parkway, New Lenox, IL 604
 51, United States
ROOM: Meeting Room A
DESCRIPTION:Ages 8-12.  Learn the basics of chess &amp; use your skills w
 ith other players in this three week program.  This program is designed f
 or beginner players, but all skill levels are welcome to come enjoy the fu
 n!  Registration is for a 3-week session and attendance is required for 
 all 3 weeks.  
URL:https://www.newlenoxlibrary.org/event/club-kids-52961
END:VEVENT
END:VCALENDAR
