BEGIN:VCALENDAR
VERSION:2.0
PRODID:-//Library Market//iCal Export//EN
BEGIN:VEVENT
SUMMARY:Kindness Club: DIY Dog Toys for Animal Shelter
UID:52966
DTSTAMP:20260424T032900Z
DTSTART:20260715T220000Z
DTEND:20260715T223000Z
LOCATION:New Lenox Public Library, 120 Veterans Parkway, New Lenox, IL 604
 51, United States
ROOM: Storytime Room
DESCRIPTION:Ages 7-12. Make the world a better place with fun projects and
  activities that will help spread kindness and leave smiles along the way.
  ACTIVITY: DIY Dog Toys for Animal Shelter
URL:https://www.newlenoxlibrary.org/event/kindness-club-diy-dog-toys-anima
 l-shelter-52966
END:VEVENT
END:VCALENDAR
