BEGIN:VCALENDAR
VERSION:2.0
PRODID:-//Library Market//iCal Export//EN
BEGIN:VEVENT
SUMMARY:Park Pals
UID:52967
DTSTAMP:20260423T224800Z
DTSTART:20260611T143000Z
DTEND:20260611T153000Z
LOCATION:Freedom Park, 470 Charleston Drive, New Lenox, IL 60451, United S
 tates
ROOM: Park Pals
DESCRIPTION:All Ages. We&#039;re bringing the library to you this summer! 
  Join us at Freedom Park for songs, stories, and other summer fun!  Brin
 g your own blanket or chair and arrive ready for laughs, silly dances, and
  a few read-aloud stories. Weather permitting.
URL:https://www.newlenoxlibrary.org/event/park-pals-52967
END:VEVENT
END:VCALENDAR
