BEGIN:VCALENDAR
VERSION:2.0
PRODID:-//Library Market//iCal Export//EN
BEGIN:VEVENT
SUMMARY:Cooks &amp; Books: Donut Apple Slices
UID:52975
DTSTAMP:20260423T225900Z
DTSTART:20260611T190000Z
DTEND:20260611T193000Z
LOCATION:New Lenox Public Library, 120 Veterans Parkway, New Lenox, IL 604
 51, United States
ROOM: Storytime Room
DESCRIPTION:Ages 4-6. Join us for a tasty storytime adventure! Each week, 
 we&#039;ll read a fun picture book together and then make a simple snack i
 nspired by the story.  Participants are encouraged to attend independentl
 y.Snack: Donut Apple Slices (Granny Smith apples, Honeycrisp apples, caram
 el sauce, chocolate sauce, Nutella, peanut butter, chocolate chips, rainbo
 w sprinkles, granola )
URL:https://www.newlenoxlibrary.org/event/cooks-books-donut-apple-slices-5
 2975
END:VEVENT
END:VCALENDAR
