BEGIN:VCALENDAR
VERSION:2.0
PRODID:-//Library Market//iCal Export//EN
BEGIN:VEVENT
SUMMARY:Cooks &amp; Books: Mini Pizzas
UID:52976
DTSTAMP:20260424T003900Z
DTSTART:20260618T190000Z
DTEND:20260618T193000Z
LOCATION:New Lenox Public Library, 120 Veterans Parkway, New Lenox, IL 604
 51, United States
ROOM: Storytime Room
DESCRIPTION:Ages 4-6. Join us for a tasty storytime adventure! Each week, 
 we&#039;ll read a fun picture book together and then make a simple snack i
 nspired by the story.  Participants are encouraged to attend independentl
 y.Mini Pizzas (Ritz crackers, shredded mozzarella, pizza sauce, mini peppe
 roni)
URL:https://www.newlenoxlibrary.org/event/cooks-books-donut-apple-slices-5
 2976
END:VEVENT
END:VCALENDAR
