BEGIN:VCALENDAR
VERSION:2.0
PRODID:-//Library Market//iCal Export//EN
BEGIN:VEVENT
SUMMARY:Cooks &amp; Books: Tacos
UID:52980
DTSTAMP:20260424T003900Z
DTSTART:20260716T190000Z
DTEND:20260716T193000Z
LOCATION:New Lenox Public Library, 120 Veterans Parkway, New Lenox, IL 604
 51, United States
ROOM: Storytime Room
DESCRIPTION:Ages 4-6. Join us for a tasty storytime adventure! Each week, 
 we&#039;ll read a fun picture book together and then make a simple snack i
 nspired by the story.  Participants are encouraged to attend independentl
 y.Snack: Tacos (Taco chicken, shredded cheese, lettuce, tomatoes, sour cre
 am)
URL:https://www.newlenoxlibrary.org/event/cooks-books-donut-apple-slices-5
 2980
END:VEVENT
END:VCALENDAR
