BEGIN:VCALENDAR
VERSION:2.0
PRODID:-//Library Market//iCal Export//EN
BEGIN:VEVENT
SUMMARY:Cooks &amp; Books: Waffles
UID:52981
DTSTAMP:20260424T004000Z
DTSTART:20260723T190000Z
DTEND:20260723T193000Z
LOCATION:New Lenox Public Library, 120 Veterans Parkway, New Lenox, IL 604
 51, United States
ROOM: Storytime Room
DESCRIPTION:Ages 4-6. Join us for a tasty storytime adventure! Each week, 
 we&#039;ll read a fun picture book together and then make a simple snack i
 nspired by the story.  Participants are encouraged to attend independentl
 y.Snack: Waffles (Eggo waffles, chocolate sauce, whipped cream, rainbow sp
 rinkles, chocolate chips, syrup)
URL:https://www.newlenoxlibrary.org/event/cooks-books-donut-apple-slices-5
 2981
END:VEVENT
END:VCALENDAR
