BEGIN:VCALENDAR
VERSION:2.0
PRODID:-//Library Market//iCal Export//EN
BEGIN:VEVENT
SUMMARY:LEGO Club
UID:52984
DTSTAMP:20260424T035000Z
DTSTART:20260702T220000Z
DTEND:20260702T224500Z
LOCATION:New Lenox Public Library, 120 Veterans Parkway, New Lenox, IL 604
 51, United States
ROOM: Meeting Room A
DESCRIPTION:1st-5th grade. We supply the bricks and you bring your imagina
 tion! A new challenge will be presented monthly to keep the creativity flo
 wing.
URL:https://www.newlenoxlibrary.org/event/lego-club-52984
END:VEVENT
END:VCALENDAR
