BEGIN:VCALENDAR
VERSION:2.0
PRODID:-//Library Market//iCal Export//EN
BEGIN:VEVENT
SUMMARY:Kinder Drawin&#039;
UID:52986
DTSTAMP:20260424T032900Z
DTSTART:20260716T223000Z
DTEND:20260716T230000Z
LOCATION:New Lenox Public Library, 120 Veterans Parkway, New Lenox, IL 604
 51, United States
ROOM: Storytime Room
DESCRIPTION:Ages 5-6. Calling all budding artists! Come listen to a story 
 and follow along to create a fun drawing each month!
URL:https://www.newlenoxlibrary.org/event/kinder-drawin-52986
END:VEVENT
END:VCALENDAR
