BEGIN:VCALENDAR
VERSION:2.0
PRODID:-//Library Market//iCal Export//EN
BEGIN:VEVENT
SUMMARY:Family Trivia Night
UID:53116
DTSTAMP:20260424T032900Z
DTSTART:20260716T233000Z
DTEND:20260717T003000Z
LOCATION:New Lenox Public Library, 120 Veterans Parkway, New Lenox, IL 604
 51, United States
ROOM: Meeting Room AB
DESCRIPTION:Ages 6 &amp; up with caregiver. Engage in friendly competition
  and test your wits with a variety of exciting trivia challenges that span
  literature, history, science, and more! Whether your a trivia novice or a
  seasoned expert, everyone can join in on the fun and showcase their smart
 s. Top three teams will each win a prize!Only one person from each group n
 eeds to register as the Team Captain.  Please list the names and ages of 
 each participant in your group (up to 4 total including the Team Captain) 
 in the special questions field on the registration form. Children must be 
 accompanied by an adult at all times.
URL:https://www.newlenoxlibrary.org/event/family-trivia-night-53116
END:VEVENT
END:VCALENDAR
