BEGIN:VCALENDAR
VERSION:2.0
PRODID:-//Library Market//iCal Export//EN
BEGIN:VEVENT
SUMMARY:Little Starr Farm Petting Zoo
UID:53118
DTSTAMP:20260424T033900Z
DTSTART:20260722T200000Z
DTEND:20260722T220000Z
LOCATION:New Lenox Public Library, 120 Veterans Parkway, New Lenox, IL 604
 51, United States
ROOM: Outdoor Naturescape
DESCRIPTION:All Ages. Join us for an afternoon of animal fun with Little S
 tarr Farm&#039;s Mobile Petting Zoo! Interact with furry barnyard friends 
 such as bunnies, chickens, and a hedgehog in our Outdoor Naturescape.Anima
 l feed will be available to purchase for $0.50 per cup.Children must be ac
 companied by an adult at all times.
URL:https://www.newlenoxlibrary.org/event/little-starr-farm-petting-zoo-53
 118
END:VEVENT
END:VCALENDAR
