BEGIN:VCALENDAR
VERSION:2.0
PRODID:-//Library Market//iCal Export//EN
BEGIN:VEVENT
SUMMARY:Tech Take-Apart
UID:53120
DTSTAMP:20260424T034000Z
DTSTART:20260729T183000Z
DTEND:20260729T223000Z
LOCATION:New Lenox Public Library, 120 Veterans Parkway, New Lenox, IL 604
 51, United States
ROOM: Meeting Room AB
DESCRIPTION:Ages 4-12 with caregiver. Ever wonder what&#039;s inside a vid
 eo game controller? Curious to see how a computer works? Join us at the li
 brary as we uncover &amp; discover the mysteries inside our favorite techn
 ology!Children must be accompanied by an adult &amp; adhere to the program
  safety rules at all times.   Work space and tech items are limited. Firs
 t come first served.
URL:https://www.newlenoxlibrary.org/event/tech-take-apart-53120
END:VEVENT
END:VCALENDAR
