BEGIN:VCALENDAR
VERSION:2.0
PRODID:-//Library Market//iCal Export//EN
BEGIN:VEVENT
SUMMARY:Cooking with Kyra: Carrot Patch Cookies
UID:53121
DTSTAMP:20260424T032900Z
DTSTART:20260723T213000Z
DTEND:20260723T214500Z
LOCATION:
DESCRIPTION:Ages 4-10. Hear a story and follow along with Ms. Kyra&#039;s 
 video to make a simple snack!Theme: Carrot Patch CookiesIngredients: Sugar
  wafer cookies, vanilla frosting, Oreo cookies, carrot-shaped candies
URL:https://www.newlenoxlibrary.org/event/cooking-kyra-53121
END:VEVENT
END:VCALENDAR
