BEGIN:VCALENDAR
VERSION:2.0
PRODID:-//Library Market//iCal Export//EN
BEGIN:VEVENT
SUMMARY:Cooking with Kyra: Garden Gnome Cupcakes
UID:53122
DTSTAMP:20260424T032900Z
DTSTART:20260625T213000Z
DTEND:20260625T214500Z
LOCATION:
DESCRIPTION:Ages 4-10. Hear a story and follow along with Ms. Kyra&#039;s 
 video to make a simple snack!Theme: Garden Gnome CupcakesIngredients: Cupc
 akes, vanilla frosting, Food coloring, sugar ice cream cones, M&amp;Ms
URL:https://www.newlenoxlibrary.org/event/cooking-kyra-garden-gnome-cupcak
 es-53122
END:VEVENT
END:VCALENDAR
