BEGIN:VCALENDAR
VERSION:2.0
PRODID:-//Library Market//iCal Export//EN
BEGIN:VEVENT
SUMMARY:Let&#039;s Go Fishin&#039;!
UID:53185
DTSTAMP:20260424T032800Z
DTSTART:20260709T133000Z
DTEND:20260709T143000Z
LOCATION:New Lenox Public Library, 120 Veterans Parkway, New Lenox, IL 604
 51, United States
ROOM: Commons Circle Drive
DESCRIPTION:Ages 6-12 with a caregiver   (July 9, 16, 23) In this 3-week
  class, kids will learn to cast, bait, and take fish off the hook. Fishing
  poles and bait are supplied. Class occurs rain or shine. Registration sta
 rts June 25.An adult must be present and will need a fishing license if th
 ey are planning to assist their children (16 and under do not need fishing
  licenses). A signed waiver is also required.Register for one session only
  (June or July). Registration is for a 3-week session and attendance is re
 quired for all 3 weeks.
URL:https://www.newlenoxlibrary.org/event/lets-go-fishin-53185
END:VEVENT
END:VCALENDAR
