BEGIN:VCALENDAR
VERSION:2.0
PRODID:-//Library Market//iCal Export//EN
BEGIN:VEVENT
SUMMARY:Play-Doh Playtime
UID:53194
DTSTAMP:20260423T224800Z
DTSTART:20260612T143000Z
DTEND:20260612T150000Z
LOCATION:New Lenox Public Library, 120 Veterans Parkway, New Lenox, IL 604
 51, United States
ROOM: Storytime Room
DESCRIPTION:Ages 1-3 with caregiver. A fun, hands-on experience perfect fo
 r the littlest patrons, Play-Doh Playtime is sure to bring out your child&
 #039;s creativity and imagination. Leave the mess to us in this drop-in st
 yle program!
URL:https://www.newlenoxlibrary.org/event/play-doh-playtime-53194
END:VEVENT
END:VCALENDAR
