BEGIN:VCALENDAR
VERSION:2.0
PRODID:-//Library Market//iCal Export//EN
BEGIN:VEVENT
SUMMARY:Play-Doh Playtime: Master Molders
UID:53205
DTSTAMP:20260424T002700Z
DTSTART:20260717T151500Z
DTEND:20260717T154500Z
LOCATION:New Lenox Public Library, 120 Veterans Parkway, New Lenox, IL 604
 51, United States
ROOM: Storytime Room
DESCRIPTION:Ages 4-6 with caregiver.  Big kids love Play-Doh, too!  Let 
 your child&#039;s creativity shine in this Play-Doh program perfect for th
 ose who want to build and create.
URL:https://www.newlenoxlibrary.org/event/play-doh-playtime-master-molders
 -53205
END:VEVENT
END:VCALENDAR
