BEGIN:VCALENDAR
VERSION:2.0
PRODID:-//Library Market//iCal Export//EN
BEGIN:VEVENT
SUMMARY:Summertime Crafternoon
UID:53213
DTSTAMP:20260424T002700Z
DTSTART:20260717T180000Z
DTEND:20260717T200000Z
LOCATION:New Lenox Public Library, 120 Veterans Parkway, New Lenox, IL 604
 51, United States
ROOM: Meeting Room AB
DESCRIPTION:Ages Birth-8th grade with caregiver. Let your creativity flow 
 with an afternoon of self-directed arts &amp; crafts at the library! Suppl
 ies will be provided and adult supervision is required.In addition to our 
 open crafts , we will also be offering weekly feature crafts this summer!J
 une 12, July 10 &amp; July 31: Friendship BraceletsJune 26 &amp; July 17: 
 Perler BeadsJuly 3 &amp; July 24: Diamond Art MagnetsWeekly feature crafts
  will be available while supplies last!
URL:https://www.newlenoxlibrary.org/event/crafternoon-studio-53213
END:VEVENT
END:VCALENDAR
