BEGIN:VCALENDAR
VERSION:2.0
PRODID:-//Library Market//iCal Export//EN
BEGIN:VEVENT
SUMMARY:Pop-Up Tattoo Parlor
UID:53223
DTSTAMP:20260424T034000Z
DTSTART:20260717T140000Z
DTEND:20260717T210000Z
LOCATION:New Lenox Public Library, 120 Veterans Parkway, New Lenox, IL 604
 51, United States
ROOM: Youth Services Desk
DESCRIPTION:Ages 3-12. Come get &quot;tatted up&quot; at the library!  St
 op by the Youth Services Desk to get a fun temporary tattoo in honor of Na
 tional Tattoo Day!  While supplies last. Limit one tattoo per patron.
URL:https://www.newlenoxlibrary.org/event/pop-tattoo-parlor-53223
END:VEVENT
END:VCALENDAR
