BEGIN:VCALENDAR
VERSION:2.0
PRODID:-//Library Market//iCal Export//EN
BEGIN:VEVENT
SUMMARY:Racin&#039; Worms
UID:53225
DTSTAMP:20260424T034000Z
DTSTART:20260718T143000Z
DTEND:20260718T160000Z
LOCATION:New Lenox Public Library, 120 Veterans Parkway, New Lenox, IL 604
 51, United States
ROOM: Outdoor Naturescape
DESCRIPTION:Ages 3-12 with caregiver. Get ready to wiggle, giggle, and rac
 e at our earthworm race, Racin&#039; Worms!Participants will kick off the 
 fun by selecting their very own earthworm racer, giving it a creative name
 , and designing a colorful flag to cheer on their speedy competitor! Once 
 the racers are ready, worms will compete in a series of exciting heats to 
 see who can inch their way to victory the fastest!Cheer your worm as it sq
 uirms toward the finish line--no two races are ever the same!  The top th
 ree fastest worms will earn prizes and bragging rights as the library&#039
 ;s ultimate worm racing champions!Children must be accompanied by an adult
  &amp; adhere to the program safety rules at all times.In the event of inc
 lement weather, races will be held in Meeting Room AB.
URL:https://www.newlenoxlibrary.org/event/racin-worms-53225
END:VEVENT
END:VCALENDAR
