BEGIN:VCALENDAR
VERSION:2.0
PRODID:-//Library Market//iCal Export//EN
BEGIN:VEVENT
SUMMARY:Summer Learning Challenge Kick-Off: Picnic &amp; Plant-a-thon
UID:53354
DTSTAMP:20260423T195700Z
DTSTART:20260613T153000Z
DTEND:20260613T183000Z
LOCATION:Performing Arts Pavilion at New Lenox Commons, 101 Veterans Parkw
 ay, New Lenox, IL 60451, United States
ROOM: Summer Learning Challenge Kick-Off: Picnic &amp; Plant-a-thon
DESCRIPTION:Join us for a picnic and plant-a-thon as we kick off Summer at
  the Library! Take part in our community planting day, enjoy live music, a
 nd cool off with a free sweet treat.Help us plant and refresh the garden b
 eds in front of the Library, along with planters and window boxes, as part
  of a community beautification project. Some supplies and tools will be pr
 ovided, but we encourage you to bring your own, such as: kneeling pads, ha
 nd tools, and other gardening equipment. Don&#039;t forget hats, sunscree
 n and water bottles for this outdoor event! Meet us in front of the Libra
 ry, stop by to lend a hand with our plant-a-thon, then take a break and re
 lax on the lawn in the New Lenox Commons. Enjoy a free outdoor concert at 
 the New Lenox Performing Arts Pavilion with Nick Madsen throughout the eve
 nt. Bring a blanket or chair, pack a lunch, and make it a picnic! Kona Ic
 e will be on site from 11:30 AM to 12:30 PM. The first 150 attendees will 
 receive a voucher for a free 9 oz shaved ice courtesy of The Friends of th
 e Library. See designated staff or volunteers at the event to receive a vo
 ucher. (Vouchers are limited to one per person present and must be picked
  up by an adult. Open to all ages.)Start at the Library building to check-
 in, pick up your Kona Ice voucher and grab some other Library swag, while 
 supplies last. While you’re here, stop by to register for “Plant a See
 d, Read.” We will be planting seeds, nourishing minds, and growing conne
 ctions all summer long.In case of inclement weather, Nick will perform in 
 Meeting Room AB and capacity will be limited to 70 attendees at a time. Ko
 na Ice will be here serving shaved ice, rain or shine! No registration re
 quired.Part of our “Plant a Seed, Read!” Summer SeriesSponsored by The
  Friends of the Library and The Village of New Lenox.
URL:https://www.newlenoxlibrary.org/event/summer-learning-challenge-kick-p
 icnic-plant-thon-53354
END:VEVENT
END:VCALENDAR
