BEGIN:VCALENDAR
VERSION:2.0
PRODID:-//Library Market//iCal Export//EN
BEGIN:VEVENT
SUMMARY:Salute to Veterans Concert! Celebrate America 250 with the Saddle 
 Shoe Sisters
UID:53355
DTSTAMP:20260424T032800Z
DTSTART:20260628T180000Z
DTEND:20260628T190000Z
LOCATION:New Lenox Public Library, 120 Veterans Parkway, New Lenox, IL 604
 51, United States
ROOM: Meeting Room AB
DESCRIPTION:Join us as we celebrate America&#039;s upcoming 250th Birthday
 ! A nod to USO performances like the Andrew Sisters, this Salute to Veter
 an&#039;s concert features retro patriotic songs and oldies. Get ready to 
 boogie woogie with The Saddle Shoe Sisters! Registration EncouragedRegist
 ration is not required, but priority will be given to those on the registr
 ation list.
URL:https://www.newlenoxlibrary.org/event/salute-veterans-concert-saddle-s
 hoe-sisters-53355
END:VEVENT
END:VCALENDAR
