BEGIN:VCALENDAR
VERSION:2.0
PRODID:-//Library Market//iCal Export//EN
BEGIN:VEVENT
SUMMARY:Teen Social Hour with the Plainfield Pride Young Adult Group
UID:53356
DTSTAMP:20260424T090700Z
DTSTART:20260604T220000Z
DTEND:20260604T230000Z
LOCATION:New Lenox Public Library, 120 Veterans Parkway, New Lenox, IL 604
 51, United States
ROOM: Meeting Room AB
DESCRIPTION:Come hang with at the library with Plainfield Pride! This teen
 -designated social hour will include name tags, icebreaker activities, and
  an opportunity to get to know other folks in your area. Everyone is welco
 me here! Snacks and drinks will be provided, so all you need to bring is y
 our awesome self!Registration Required
URL:https://www.newlenoxlibrary.org/event/queer-teen-social-plainfield-pri
 de-53356
END:VEVENT
END:VCALENDAR
