BEGIN:VCALENDAR
VERSION:2.0
PRODID:-//Library Market//iCal Export//EN
BEGIN:VEVENT
SUMMARY:Ready, Set, WET! Teen Water Battle
UID:53357
DTSTAMP:20260423T225900Z
DTSTART:20260611T180000Z
DTEND:20260611T190000Z
LOCATION:New Lenox Public Library, 120 Veterans Parkway, New Lenox, IL 604
 51, United States
ROOM: Ready, Set, WET! Teen Water Battle
DESCRIPTION:Come to the library to beat the summer heat! Grab a friend, a 
 water gun, and go! Meet us inside before we head out to the library&#039;s
  own backyard and get started! Bring a towel if you&#039;d like, clothes y
 ou don&#039;t mind getting a little damp, and your best aim. Ready, set, w
 et!Meet in Lobby!Registration Required
URL:https://www.newlenoxlibrary.org/event/ready-set-wet-teen-water-battle-
 53357
END:VEVENT
END:VCALENDAR
