BEGIN:VCALENDAR
VERSION:2.0
PRODID:-//Library Market//iCal Export//EN
BEGIN:VEVENT
SUMMARY:Starbucks Favorites with Kristyn Slick
UID:53358
DTSTAMP:20260424T034000Z
DTSTART:20260625T180000Z
DTEND:20260625T190000Z
LOCATION:New Lenox Public Library, 120 Veterans Parkway, New Lenox, IL 604
 51, United States
ROOM: Meeting Room A
DESCRIPTION:Love your favorite coffee shop vibes? Join cooking instructor,
  Kristyn Slick, in a live cooking demo where she unveils three Starbucks-i
 nspired recipes that you can recreate at home. Perfect for teens looking t
 o channel their inner barista, this presentation brings the coffeehouse ma
 gic straight to your kitchen!Registration RequiredIf you have dietary rest
 rictions or allergies please be aware, food served may contain nuts, dairy
 , and gluten. We are unable to provide alternative options. 
URL:https://www.newlenoxlibrary.org/event/starbucks-favorites-kristyn-slic
 k-53358
END:VEVENT
END:VCALENDAR
