BEGIN:VCALENDAR
VERSION:2.0
PRODID:-//Library Market//iCal Export//EN
BEGIN:VEVENT
SUMMARY:Microsoft Excel: Basics
UID:53359
DTSTAMP:20260424T054100Z
DTSTART:20260601T200000Z
DTEND:20260601T210000Z
LOCATION:New Lenox Public Library, 120 Veterans Parkway, New Lenox, IL 604
 51, United States
ROOM: Meeting Room B
DESCRIPTION:Learn the basics of Excel and how to navigate its many feature
 s.Special Registration Required: Sign up through Workforce Center of Will 
 County. Registration dates may vary.Register here: https://wcwc.jotform.co
 m/252734810859970
URL:https://www.newlenoxlibrary.org/event/microsoft-excel-basics-53359
END:VEVENT
END:VCALENDAR
