BEGIN:VCALENDAR
VERSION:2.0
PRODID:-//Library Market//iCal Export//EN
BEGIN:VEVENT
SUMMARY:Soil, Sky &amp; AI: The Science of Rain and Weather with Argonne N
 ational Laboratory
UID:53361
DTSTAMP:20260424T054100Z
DTSTART:20260602T230000Z
DTEND:20260603T003000Z
LOCATION:New Lenox Public Library, 120 Veterans Parkway, New Lenox, IL 604
 51, United States
ROOM: Meeting Room AB
DESCRIPTION:If you want the seeds you planted to grow, you&#039;re going t
 o need water. Rain is an essential ingredient in the lives of plants, so s
 cientists are creating better tools to help understand and predict rainfal
 l. Researchers at Argonne National Laboratory use cutting-edge instruments
  and artificial intelligence to explore everything from the moisture in so
 il to the rain and snow that fall to the ground to the clouds that form to
  create storms. Argonne researchers Paytsar Muradyan and Matthew Tuftedal
  will share amazing tools for atmospheric research and share how AI is hel
 ping make better predictions for researchers, farmers, and even your weath
 er station. And yes—they’re bringing tools and sensors for you to see 
 and touch! Registration Required
URL:https://www.newlenoxlibrary.org/event/soil-sky-ai-science-rain-and-wea
 ther-argonne-national-laboratory-53361
END:VEVENT
END:VCALENDAR
