BEGIN:VCALENDAR
VERSION:2.0
PRODID:-//Library Market//iCal Export//EN
BEGIN:VEVENT
SUMMARY:Planting Seeds in the New World (Genealogy Club)
UID:53366
DTSTAMP:20260423T225900Z
DTSTART:20260609T230000Z
DTEND:20260610T003000Z
LOCATION:New Lenox Public Library, 120 Veterans Parkway, New Lenox, IL 604
 51, United States
ROOM: Meeting Room AB
DESCRIPTION:Did you know that many immigrants brought seeds with them when
  they made the journey to America? These seeds were an invaluable part of 
 their heritage and future, too. Amazingly, some families still steward tho
 se seeds today, and there are many inspiring stories about them that have 
 been passed down through the generations. Come learn about the connections
  between genealogy and seeds. While it may not be a traditional research p
 ath, there can be helpful information just waiting to sprout if you dig de
 ep enough.Registration Required
URL:https://www.newlenoxlibrary.org/event/planting-seeds-new-world-genealo
 gy-club-53366
END:VEVENT
END:VCALENDAR
