BEGIN:VCALENDAR
VERSION:2.0
PRODID:-//Library Market//iCal Export//EN
BEGIN:VEVENT
SUMMARY:Morning Masterpieces: Fruit &amp; Vegetable Collages
UID:53368
DTSTAMP:20260424T032900Z
DTSTART:20260626T153000Z
DTEND:20260626T170000Z
LOCATION:New Lenox Public Library, 120 Veterans Parkway, New Lenox, IL 604
 51, United States
ROOM: Meeting Room AB
DESCRIPTION:Let’s paint! Come enjoy a relaxed morning of creativity as w
 e create an art piece with step by step instructions and provided material
 s.In this session: Create your own fruit or vegetable collage in the style
  of iREAD featured illustrator, Sarah Ferone. Her work for the 2026 &quot;
 Plant a Seed, Read&quot; theme features vibrant summer produce like strawb
 erries, tomatoes, beets, and more! Let&#039;s produce a collage of our own
  inspired by her inky, textured, mixed-media style using a combination of 
 tissue paper, parchment paper, and acrylic paint.Registration Required.
URL:https://www.newlenoxlibrary.org/event/morning-masterpieces-fruit-veget
 able-collages-53368
END:VEVENT
END:VCALENDAR
