BEGIN:VCALENDAR
VERSION:2.0
PRODID:-//Library Market//iCal Export//EN
BEGIN:VEVENT
SUMMARY:Chalk the Walk
UID:53933
DTSTAMP:20260423T224800Z
DTSTART:20260608T153000Z
DTEND:20260608T170000Z
LOCATION:New Lenox Public Library, 120 Veterans Parkway, New Lenox, IL 604
 51, United States
ROOM: Commons Circle Drive
DESCRIPTION:All Ages.  Bring your creativity and help us make our sidewal
 k pop with color this summer!  Weather permitting.
URL:https://www.newlenoxlibrary.org/event/chalk-walk-53933
END:VEVENT
END:VCALENDAR
