BEGIN:VCALENDAR
VERSION:2.0
PRODID:-//Library Market//iCal Export//EN
BEGIN:VEVENT
SUMMARY:Chalk the Walk
UID:53934
DTSTAMP:20260424T035000Z
DTSTART:20260706T153000Z
DTEND:20260706T170000Z
LOCATION:New Lenox Public Library, 120 Veterans Parkway, New Lenox, IL 604
 51, United States
ROOM: Commons Circle Drive
DESCRIPTION:All Ages.  Bring your creativity and help us make our sidewal
 k pop with color this summer!  Weather permitting.
URL:https://www.newlenoxlibrary.org/event/chalk-walk-53934
END:VEVENT
END:VCALENDAR
