BEGIN:VCALENDAR
VERSION:2.0
PRODID:-//Library Market//iCal Export//EN
BEGIN:VEVENT
SUMMARY:Baby Splash Time
UID:53945
DTSTAMP:20260424T003900Z
DTSTART:20260623T153000Z
DTEND:20260623T161500Z
LOCATION:New Lenox Public Library, 120 Veterans Parkway, New Lenox, IL 604
 51, United States
ROOM: Storytime Room
DESCRIPTION:Ages 8-20 months with caregiver.  Bring your baby to splish &
 amp; splash at the library!  We&#039;ll have water toys, baby pools, spri
 nklers, and bubbles for you and Baby to enjoy!  We will meet in the Youth
  Services&#039; Storytime Room for a short story &amp; song before heading
  to the Outdoor Naturescape.  Please come prepared for fun in the sun &am
 p; water!Babies participating should be between the ages of 8-20 months an
 d should be able to sit up comfortably.Younger siblings are welcome to att
 end, but are not permitted to participate.  Due to the nature of this pro
 gram, older siblings will not be permitted.
URL:https://www.newlenoxlibrary.org/event/baby-splash-time-53945
END:VEVENT
END:VCALENDAR
