BEGIN:VCALENDAR
VERSION:2.0
PRODID:-//Library Market//iCal Export//EN
BEGIN:VEVENT
SUMMARY:Little Explorers Storytime @ The Wildflower Farm
UID:53951
DTSTAMP:20260424T034000Z
DTSTART:20260729T150000Z
DTEND:20260729T154500Z
LOCATION:The Wildflower Farm, 11332 W Dralle Rd, Monee, IL 60449, United S
 tates
ROOM: Little Explorers Storytime @ The Wildflower Farm
DESCRIPTION:Ages 3-6 with caregiver. Join us for a special Little Explorer
 s Storytime at The Wildflower Farm! Stay after storytime to pick flowers a
 nd enjoy slides, jumpy pillow, train, animals, and other fun farm activiti
 es!Admission &amp; flower vial (holds 3-4 flowers) will be waived for all 
 registered participants.All participants must be accompanied by an adult. 
  Weather permitting.
URL:https://www.newlenoxlibrary.org/event/little-explorers-storytime-wildf
 lower-farm-53951
END:VEVENT
END:VCALENDAR
