BEGIN:VCALENDAR
VERSION:2.0
PRODID:-//Library Market//iCal Export//EN
BEGIN:VEVENT
SUMMARY:Phone Basics with Tech Tutors
UID:54043
DTSTAMP:20260424T054100Z
DTSTART:20260615T203000Z
DTEND:20260615T210000Z
LOCATION:New Lenox Public Library, 120 Veterans Parkway, New Lenox, IL 604
 51, United States
ROOM: Conference Room
DESCRIPTION:Learn to better navigate your smartphones and apps. Please reg
 ister for a 30-minute time slot in advance to receive one-on-one assistanc
 e.*This series focuses on device use and navigation. Our staff and teen vo
 lunteers are here to help, but we cannot repair or troubleshoot damaged de
 vices. Although we may not be able to answer every question or fix every p
 roblem, we will do our best to find solutions together.Registration Requir
 edRegistration closes the Thursday before the session.
URL:https://www.newlenoxlibrary.org/event/phone-basics-tech-tutors-54043
END:VEVENT
END:VCALENDAR
