BEGIN:VCALENDAR
VERSION:2.0
PRODID:-//Library Market//iCal Export//EN
BEGIN:VEVENT
SUMMARY:eReader Basics with Tech Tutors
UID:54051
DTSTAMP:20260424T034000Z
DTSTART:20260622T220000Z
DTEND:20260622T223000Z
LOCATION:New Lenox Public Library, 120 Veterans Parkway, New Lenox, IL 604
 51, United States
ROOM: Conference Room
DESCRIPTION:Learn to navigate e-readers and reading apps. Get help with yo
 ur Kindle, Kobo, Nook and more, as well as library apps like Libby and Hoo
 pla, available with your NLPL card. Please register for a 30-minute time s
 lot in advance to receive one-on-one assistance.*This series focuses on de
 vice use and navigation. Our staff and teen volunteers are here to help, b
 ut we cannot repair or troubleshoot damaged devices. Although we may not b
 e able to answer every question or fix every problem, we will do our best 
 to find solutions together.Registration RequiredRegistration closes the Th
 ursday before the session.Note: As of May 2026, Amazon has ended support o
 f some Kindle models 2013 and older. These devices will no longer be able 
 to borrow or download new content.
URL:https://www.newlenoxlibrary.org/event/ereader-basics-tech-tutors-54051
END:VEVENT
END:VCALENDAR
