BEGIN:VCALENDAR
VERSION:2.0
PRODID:-//Library Market//iCal Export//EN
BEGIN:VEVENT
SUMMARY:Intro to Laser Cutting &amp; xTools
UID:54056
DTSTAMP:20260424T054100Z
DTSTART:20260615T223000Z
DTEND:20260616T000000Z
LOCATION:New Lenox Public Library, 120 Veterans Parkway, New Lenox, IL 604
 51, United States
ROOM: The Studio
DESCRIPTION:Learn the ins-and-outs of how to use the Laser Cutter in The S
 tudio. We will go over what the laser cutter can do, different projects yo
 u can create, and how to request an appointment. Want to design something 
 yourself? Learn how to make a Garden Marker on basswood using xTool Studio
 . This is a skills &amp; project program. 
URL:https://www.newlenoxlibrary.org/event/intro-laser-cutting-xtools-54056
END:VEVENT
END:VCALENDAR
