BEGIN:VCALENDAR
VERSION:2.0
PRODID:-//Library Market//iCal Export//EN
BEGIN:VEVENT
SUMMARY:Let&#039;s Sublimate: Wind Spinners
UID:54057
DTSTAMP:20260424T072000Z
DTSTART:20260625T223000Z
DTEND:20260626T000000Z
LOCATION:New Lenox Public Library, 120 Veterans Parkway, New Lenox, IL 604
 51, United States
ROOM: The Studio
DESCRIPTION:With the SawGrass500, we can heat press an image or design ont
 o different polyester-blended materials. This month, in partnership with 
 the Summer Learning Challenge, we will be sublimating Wind Spinners. 1 win
 d spinner per patron. *This is a project-based program.
URL:https://www.newlenoxlibrary.org/event/lets-sublimate-wind-spinners-540
 57
END:VEVENT
END:VCALENDAR
