BEGIN:VCALENDAR
VERSION:2.0
PRODID:-//Library Market//iCal Export//EN
BEGIN:VEVENT
SUMMARY:Intro to 3D Printing and TinkerCAD
UID:54058
DTSTAMP:20260424T072000Z
DTSTART:20260629T223000Z
DTEND:20260630T000000Z
LOCATION:New Lenox Public Library, 120 Veterans Parkway, New Lenox, IL 604
 51, United States
ROOM: The Studio
DESCRIPTION:Learn the ins-and-outs of The Studio&#039;s 3D printing proces
 s: how to find something to print, submit it to us, and pick up a finished
  design. Want to design something yourself? Learn how to make your own key
 chain design in TinkerCAD!This is a skills &amp; project program.*This is 
 a re-occurring program that will be the same each time it is offered.  
URL:https://www.newlenoxlibrary.org/event/intro-3d-printing-and-tinkercad-
 54058
END:VEVENT
END:VCALENDAR
